BEGIN:VCALENDAR
VERSION:2.0
PRODID:-//eventon.com NONSGML v1.0//EN
CALSCALE:GREGORIAN
METHOD:PUBLISH
BEGIN:VEVENT
UID:69e2c041f2a00
DTSTAMP:20260417T232033Z
DTSTART:20260422
DTEND:20260423
LOCATION:
SUMMARY:SE District Trapshoot
DESCRIPTION:SE District Trapshoot\nhttps://missouriffa.org/blog/events/se-d
 istrict-trapshoot/
URL:https://missouriffa.org/blog/events/se-district-trapshoot/
END:VEVENT
END:VCALENDAR