BEGIN:VCALENDAR
VERSION:2.0
PRODID:-//eventon.com NONSGML v1.0//EN
CALSCALE:GREGORIAN
METHOD:PUBLISH
BEGIN:VEVENT
UID:69e2acbc7f629
DTSTAMP:20260417T215716Z
DTSTART:20260415
DTEND:20260416
LOCATION:
SUMMARY:98th Missouri State FFA Convention
DESCRIPTION:98th Missouri State FFA Convention\nhttps://missouriffa.org/blo
 g/events/missouri-state-ffa-convention/
URL:https://missouriffa.org/blog/events/missouri-state-ffa-convention/
END:VEVENT
END:VCALENDAR